BEGIN:VCALENDAR
VERSION:2.0
CALSCALE:GREGORIAN
METHOD:PUBLISH
PRODID://NAFS//388533
BEGIN:VEVENT
DTSTAMP:20260423T134020
VTIMEZONE:America/New_York
DTSTART:20251105T170000Z
DTEND:20251105T180000Z
UID:388533
SUMMARY:NAFSN Leadership Circle Meeting 2025
LOCATION:This is a virtual event.
DESCRIPTION:NAFSN Leadership Circle Meeting 2025\n\n11/05/25 12:00 PM EST\n - 11/05/25 01:00 PM EST\Description:\nLeadership Circle Meetings are open to all members of NAFSN throughout 2025. During the one-hour monthly meeting, NAFSN Leadership members review and discuss the organization's monthly leadership report. Led by Natalie Cruz, Co-Director of NAFSN, the group makes time at the beginning of each meeting for new members to briefly introduce themselves to the group.\Location:\nThis is a virtual event.\n\n,
X-ALT-DESC;FMTTYPE=text/html:NAFSN Leadership Circle Meeting 2025<br /><br />11/05/25 12:00 PM EST - 11/05/25 01:00 PM EST<br />Description:<br />Leadership Circle Meetings are open to all members of NAFSN throughout 2025.&nbsp;During the one-hour monthly meeting, NAFSN Leadership members review and discuss the organization's monthly leadership report. Led by Natalie Cruz, Co-Director of NAFSN, the group makes time at the beginning of each meeting&nbsp;for new members to briefly introduce themselves to the group.<br />Location:<br />This is a virtual event.<br /><br />,  
PRIORITY:3
TRANSP:TRANSPARENT
BEGIN:VALARM
TRIGGER:-PT5M
ACTION:DISPLAY
DESCRIPTION:Reminder
END:VALARM
END:VEVENT
END:VCALENDAR
