BEGIN:VCALENDAR
VERSION:2.0
CALSCALE:GREGORIAN
METHOD:PUBLISH
PRODID://NAFS//441823
BEGIN:VEVENT
DTSTAMP:20260423T134118
VTIMEZONE:America/New_York
DTSTART:20251118T180000Z
DTEND:20251118T190000Z
UID:441823
SUMMARY:ACRE Information Session
LOCATION:This is a virtual event.
DESCRIPTION:ACRE Information Session\n\n11/18/25 01:00 PM EST\n - 11/18/25 02:00 PM EST\Description:\nAre you interested in becoming a trained food systems facilitator?\n\nOr, are you looking for an affordable & practical professional development opportunity for your staff with lasting impact?\n\nJoin us for a free Information Session on ACRE.\n\nAgriCluster Resilience and Expansion - or ACRE for short - is a professionally-facilitated strategic planning process to help groups of farmers, especially those in value-chains, work together and compete more effectively.\n\nThe ACRE Facilitator Training program provides instruction specifically designed for food and agriculture systems professionals to facilitate and guide the ACRE Process with farmers and other community stakeholders in the values-based development of more resilient food value chains.\n\nIn the ACRE Information Session, you'll learn about the training course, and the community of practice employing ACRE in their food/ag communities. \n\Location:\nThis is a virtual event.\n\n,
X-ALT-DESC;FMTTYPE=text/html:ACRE Information Session<br /><br />11/18/25 01:00 PM EST - 11/18/25 02:00 PM EST<br />Description:<br /><p>Are you interested in becoming a trained food systems facilitator?</p>

<p>Or, are you looking for an affordable &amp; practical professional development opportunity for your staff with lasting impact?</p>

<p><strong>Join us for a free Information Session on ACRE.</strong></p>

<p><u><a href="https://www.foodsystemsnetwork.org/acre.php">AgriCluster&nbsp;Resilience and Expansion</a></u>&nbsp;- or ACRE for short - is a professionally-facilitated strategic planning process to help groups of farmers, especially those in value-chains, work together and compete more effectively.</p>

<p>The ACRE Facilitator Training program provides instruction specifically designed for food and agriculture systems professionals to facilitate and guide the ACRE Process with farmers and other community stakeholders in the values-based&nbsp;development of more resilient food value chains.</p>

<p>In the ACRE Information Session, you'll learn about the training course, and the community of practice employing ACRE in their food/ag communities.&nbsp;</p>
<br />Location:<br />This is a virtual event.<br /><br />,  
PRIORITY:3
TRANSP:TRANSPARENT
BEGIN:VALARM
TRIGGER:-PT5M
ACTION:DISPLAY
DESCRIPTION:Reminder
END:VALARM
END:VEVENT
END:VCALENDAR
