BEGIN:VCALENDAR
VERSION:2.0
CALSCALE:GREGORIAN
METHOD:PUBLISH
PRODID://NAFS//442371
BEGIN:VEVENT
DTSTAMP:20260423T203325
VTIMEZONE:America/New_York
DTSTART:20251216T190000Z
DTEND:20251216T200000Z
UID:442371
SUMMARY:ACRE Community of Practice Meeting
LOCATION:This is a virtual event.
DESCRIPTION:ACRE Community of Practice Meeting\n\n12/16/25 02:00 PM EST\n - 12/16/25 03:00 PM EST\Description:\nThe ACRE Community of Practice meets quarterly to provide ACRE Facilitators with an opportunity to network and learn best practices from each other.\n\n \Location:\nThis is a virtual event.\n\n,
X-ALT-DESC;FMTTYPE=text/html:ACRE Community of Practice Meeting<br /><br />12/16/25 02:00 PM EST - 12/16/25 03:00 PM EST<br />Description:<br />The ACRE Community of Practice meets quarterly to provide ACRE Facilitators with an opportunity to network and learn best practices from each other.<br />
<br />
&nbsp;<br />Location:<br />This is a virtual event.<br /><br />,  
PRIORITY:3
TRANSP:TRANSPARENT
BEGIN:VALARM
TRIGGER:-PT5M
ACTION:DISPLAY
DESCRIPTION:Reminder
END:VALARM
END:VEVENT
END:VCALENDAR
