BEGIN:VCALENDAR
VERSION:2.0
CALSCALE:GREGORIAN
METHOD:PUBLISH
PRODID://NAFS//455589
BEGIN:VEVENT
DTSTAMP:20260423T133321
VTIMEZONE:America/New_York
DTSTART:20251023T180000Z
DTEND:20251023T183000Z
UID:455589
SUMMARY:Mini Course Info Session, "Marketing Farmers Markets"
LOCATION:This is a virtual event.
DESCRIPTION:Mini Course Info Session, "Marketing Farmers Markets"\n\n10/23/25 02:00 PM EST\n - 10/23/25 02:30 PM EST\Description:\nLooking for a quick, multi-media, professional development course packed with insights, ready-to-use materials, and more?\nCome to this free information session to learn about "Marketing Farmers Markets," NAFSN's first micro-credential course.\n\nProduced in partnership with the national Farmers Market Coalition and the University of Wisconsin, this course is specifically designed for community-based decision makers committed to helping their local farmers markets grow. \n\nThis information session is free to the public. The course is free to NAFSN members. \Location:\nThis is a virtual event.\n\n,
X-ALT-DESC;FMTTYPE=text/html:Mini Course Info Session, "Marketing Farmers Markets"<br /><br />10/23/25 02:00 PM EST - 10/23/25 02:30 PM EST<br />Description:<br />Looking for a quick, multi-media, professional development course packed with insights, ready-to-use materials,&nbsp;and more?<br />
Come to this free information session to learn about&nbsp;&quot;Marketing Farmers Markets,&quot; NAFSN's first micro-credential course.<br />
<br />
Produced in partnership with the national Farmers Market Coalition and the University of Wisconsin, this course is specifically designed for community-based decision makers committed to helping&nbsp;their local farmers markets grow.&nbsp;<br />
<br />
This information session is free to the public. The course is free to <a href="https://members.foodsystemsnetwork.org/members/newmem/new-mem-reg.php?org_id=NAFS">NAFSN members.</a>&nbsp;<br />Location:<br />This is a virtual event.<br /><br />,  
PRIORITY:3
TRANSP:TRANSPARENT
BEGIN:VALARM
TRIGGER:-PT5M
ACTION:DISPLAY
DESCRIPTION:Reminder
END:VALARM
END:VEVENT
END:VCALENDAR
