BEGIN:VCALENDAR
VERSION:2.0
CALSCALE:GREGORIAN
METHOD:PUBLISH
PRODID://NAFS//470876
BEGIN:VEVENT
DTSTAMP:20260423T114524
VTIMEZONE:America/New_York
DTSTART:20260319T160000Z
DTEND:20260319T163000Z
UID:470876
SUMMARY:Micro Course Info Session, "Marketing Farmers Markets"
LOCATION:This is a virtual event.
DESCRIPTION:Micro Course Info Session, "Marketing Farmers Markets"\n\n03/19/26 12:00 PM EST\n - 03/19/26 12:30 PM EST\Description:\nLooking for a quick, multi-media, professional development course packed with insights, ready-to-use materials, and more?\n\nCome to this free information session to learn about "Marketing Farmers Markets," NAFSN's first micro-credential course.\n\nProduced in partnership with the national Farmers Market Coalition and the University of Wisconsin, this course is specifically designed for community-based decision makers committed to helping their local farmers markets grow. \n\nThis information session is free to the public. The course is free to NAFSN members. \Location:\nThis is a virtual event.\n\n,
X-ALT-DESC;FMTTYPE=text/html:Micro Course Info Session, "Marketing Farmers Markets"<br /><br />03/19/26 12:00 PM EST - 03/19/26 12:30 PM EST<br />Description:<br />Looking for a quick, multi-media, professional development course packed with insights, ready-to-use materials,&nbsp;and more?<br />
<br />
Come to this free information session to learn about&nbsp;&quot;Marketing Farmers Markets,&quot; NAFSN's first micro-credential course.<br />
<br />
Produced in partnership with the national Farmers Market Coalition and the University of Wisconsin, this course is specifically designed for community-based decision makers committed to helping&nbsp;their local farmers markets grow.&nbsp;<br />
<br />
This information session is free to the public. The course is free to&nbsp;<a href="https://members.foodsystemsnetwork.org/members/newmem/new-mem-reg.php?org_id=NAFS">NAFSN members.</a>&nbsp;<br />Location:<br />This is a virtual event.<br /><br />,  
PRIORITY:3
TRANSP:TRANSPARENT
BEGIN:VALARM
TRIGGER:-PT5M
ACTION:DISPLAY
DESCRIPTION:Reminder
END:VALARM
END:VEVENT
END:VCALENDAR
